BEGIN:VCALENDAR
VERSION:2.0
PRODID:-//81.169.145.79//NONSGML kigkonsult.se iCalcreator 2.20//
CALSCALE:GREGORIAN
METHOD:PUBLISH
X-WR-TIMEZONE:Europe/Berlin
BEGIN:VEVENT
UID:event719@Maibach Online
DTSTAMP:20260423T222028Z
CATEGORIES:Maibach\, Ortsbeirat Maibach
DESCRIPTION:Workshop zur Dorfentwicklung - Kinder & Jugend\nKategorie: Maib
 ach\, Ortsbeirat Maibach\nICS-Link: https://maibach-online.de/index.php?op
 tion=com_jem&view=event&id=719:de-workshop3\n
DTSTART;TZID=Europe/Berlin:20240224T110000
DTEND;TZID=Europe/Berlin:20240224T120000
LOCATION:Dorfgemeinschaftshaus
SUMMARY:Workshop zur Dorfentwicklung - Kinder & Jugend
URL:https://maibach-online.de/index.php?option=com_jem&view=event&id=719:de
 -workshop3
END:VEVENT
END:VCALENDAR