BEGIN:VCALENDAR
VERSION:2.0
PRODID:-//81.169.145.79//NONSGML kigkonsult.se iCalcreator 2.20//
CALSCALE:GREGORIAN
METHOD:PUBLISH
X-WR-TIMEZONE:Europe/Berlin
BEGIN:VEVENT
UID:event696@Maibach Online
DTSTAMP:20260420T114432Z
CATEGORIES:Maibach\, Ortsbeirat Maibach
DESCRIPTION:Workshop Dorfentwicklung\nKategorie: Maibach\, Ortsbeirat Maiba
 ch\nICS-Link: https://maibach-online.de/index.php?option=com_jem&view=even
 t&id=696:workshop-dorfentwicklung\n
DTSTART;TZID=Europe/Berlin:20230202T190000
DTEND;TZID=Europe/Berlin:20230202T190000
LOCATION:Dorfgemeinschaftshaus
SUMMARY:Workshop Dorfentwicklung
URL:https://maibach-online.de/index.php?option=com_jem&view=event&id=696:wo
 rkshop-dorfentwicklung
END:VEVENT
END:VCALENDAR