BEGIN:VCALENDAR
VERSION:2.0
PRODID:-//81.169.145.79//NONSGML kigkonsult.se iCalcreator 2.20//
CALSCALE:GREGORIAN
METHOD:PUBLISH
X-WR-TIMEZONE:Europe/Berlin
BEGIN:VEVENT
UID:event663@Maibach Online
DTSTAMP:20260423T122820Z
CATEGORIES:Maibach\, Ortsbeirat Maibach
DESCRIPTION:1. (konstituierende) Ortsbeiratssitzung\nKategorie: Maibach\, O
 rtsbeirat Maibach\nICS-Link: https://maibach-online.de/index.php?option=co
 m_jem&view=event&id=663:1-konstituierende-ortsbeiratssitzung\n
DTSTART;TZID=Europe/Berlin:20210406T200000
DTEND;TZID=Europe/Berlin:20210406T200000
LOCATION:Dorfgemeinschaftshaus
SUMMARY:1. (konstituierende) Ortsbeiratssitzung
URL:https://maibach-online.de/index.php?option=com_jem&view=event&id=663:1-
 konstituierende-ortsbeiratssitzung
END:VEVENT
END:VCALENDAR