BEGIN:VCALENDAR
VERSION:2.0
PRODID:-//81.169.145.79//NONSGML kigkonsult.se iCalcreator 2.20//
CALSCALE:GREGORIAN
METHOD:PUBLISH
X-WR-TIMEZONE:Europe/Berlin
BEGIN:VEVENT
UID:event641@Maibach Online
DTSTAMP:20260421T183734Z
CATEGORIES:Maibach\, Bücherei
DESCRIPTION:Büchereinachmittag\nKategorie: Maibach\, Bücherei\nICS-Link: ht
 tps://maibach-online.de/index.php?option=com_jem&view=event&id=641:buecher
 einachmittag\n
DTSTART;TZID=Europe/Berlin:20191201T150000
DTEND;TZID=Europe/Berlin:20191201T170000
LOCATION:Bücherei
SUMMARY:Büchereinachmittag
URL:https://maibach-online.de/index.php?option=com_jem&view=event&id=641:bu
 echereinachmittag
END:VEVENT
END:VCALENDAR