BEGIN:VCALENDAR
VERSION:2.0
PRODID:-//81.169.145.79//NONSGML kigkonsult.se iCalcreator 2.20//
CALSCALE:GREGORIAN
METHOD:PUBLISH
X-WR-TIMEZONE:Europe/Berlin
BEGIN:VEVENT
UID:event634@Maibach Online
DTSTAMP:20260420T114430Z
CATEGORIES:Maibach\, FFW Maibach\, Ortsbeirat Maibach
DESCRIPTION:Volkstrauertag\nKategorie: Maibach\, FFW Maibach\, Ortsbeirat M
 aibach\nICS-Link: https://maibach-online.de/index.php?option=com_jem&view=
 event&id=634:volkstrauertag\n
DTSTART;TZID=Europe/Berlin:20201115T104500
DTEND;TZID=Europe/Berlin:20201115T104500
LOCATION:Kirche
SUMMARY:Volkstrauertag
URL:https://maibach-online.de/index.php?option=com_jem&view=event&id=634:vo
 lkstrauertag
END:VEVENT
END:VCALENDAR