BEGIN:VCALENDAR
VERSION:2.0
PRODID:-//81.169.145.79//NONSGML kigkonsult.se iCalcreator 2.20//
CALSCALE:GREGORIAN
METHOD:PUBLISH
X-WR-TIMEZONE:Europe/Berlin
BEGIN:VEVENT
UID:event633@Maibach Online
DTSTAMP:20260424T190348Z
CATEGORIES:Maibach\, FSV Maibach\, Liederperle Maibach
DESCRIPTION:Faschingsfeier\nKategorie: Maibach\, FSV Maibach\, Liederperle 
 Maibach\nICS-Link: https://maibach-online.de/index.php?option=com_jem&view
 =event&id=633:faschingsfeier\n
DTSTART;VALUE=DATE:20200207
DTEND;VALUE=DATE:20200208
LOCATION:Dorfgemeinschaftshaus
SUMMARY:Faschingsfeier
URL:https://maibach-online.de/index.php?option=com_jem&view=event&id=633:fa
 schingsfeier
END:VEVENT
END:VCALENDAR