BEGIN:VCALENDAR
VERSION:2.0
PRODID:-//81.169.145.79//NONSGML kigkonsult.se iCalcreator 2.20//
CALSCALE:GREGORIAN
METHOD:PUBLISH
X-WR-TIMEZONE:Europe/Berlin
BEGIN:VEVENT
UID:event632@Maibach Online
DTSTAMP:20260424T195238Z
CATEGORIES:Maibach\, Liederperle Maibach
DESCRIPTION:Mitsingdämmerschoppen\nKategorie: Maibach\, Liederperle Maibach
 \nICS-Link: https://maibach-online.de/index.php?option=com_jem&view=event&
 id=632:mitsingdaemmerschoppen\n
DTSTART;VALUE=DATE:20200509
DTEND;VALUE=DATE:20200510
LOCATION:Dorfgemeinschaftshaus
SUMMARY:Mitsingdämmerschoppen
URL:https://maibach-online.de/index.php?option=com_jem&view=event&id=632:mi
 tsingdaemmerschoppen
END:VEVENT
END:VCALENDAR