BEGIN:VCALENDAR
VERSION:2.0
PRODID:-//81.169.145.79//NONSGML kigkonsult.se iCalcreator 2.20//
CALSCALE:GREGORIAN
METHOD:PUBLISH
X-WR-TIMEZONE:Europe/Berlin
BEGIN:VEVENT
UID:event614@Maibach Online
DTSTAMP:20260421T082455Z
CATEGORIES:Maibach\, FFW Maibach
DESCRIPTION:Sirenenfunktionskontrolle\nKategorie: Maibach\, FFW Maibach\nIC
 S-Link: https://maibach-online.de/index.php?option=com_jem&view=event&id=6
 14:sirenenfunktionskontrolle\n
DTSTART;TZID=Europe/Berlin:20191207T120000
DTEND;TZID=Europe/Berlin:20191207T120000
LOCATION:Maibach
SUMMARY:Sirenenfunktionskontrolle
URL:https://maibach-online.de/index.php?option=com_jem&view=event&id=614:si
 renenfunktionskontrolle
END:VEVENT
END:VCALENDAR