BEGIN:VCALENDAR
VERSION:2.0
PRODID:-//81.169.145.79//NONSGML kigkonsult.se iCalcreator 2.20//
CALSCALE:GREGORIAN
METHOD:PUBLISH
X-WR-TIMEZONE:Europe/Berlin
BEGIN:VEVENT
UID:event496@Maibach Online
DTSTAMP:20260423T185558Z
CATEGORIES:Maibach\, Förderverein Freibad Maibach
DESCRIPTION:JHV - Förderverein Freibad\nKategorie: Maibach\, Förderverein F
 reibad Maibach\nICS-Link: https://maibach-online.de/index.php?option=com_j
 em&view=event&id=496:jhv-foerderverein-freibad\n
DTSTART;TZID=Europe/Berlin:20180323T193000
DTEND;TZID=Europe/Berlin:20180323T193000
LOCATION:Dorfgemeinschaftshaus
SUMMARY:JHV - Förderverein Freibad
URL:https://maibach-online.de/index.php?option=com_jem&view=event&id=496:jh
 v-foerderverein-freibad
END:VEVENT
END:VCALENDAR