BEGIN:VCALENDAR
VERSION:2.0
PRODID:-//81.169.145.79//NONSGML kigkonsult.se iCalcreator 2.20//
CALSCALE:GREGORIAN
METHOD:PUBLISH
X-WR-TIMEZONE:Europe/Berlin
BEGIN:VEVENT
UID:event446@Maibach Online
DTSTAMP:20260422T045233Z
CATEGORIES:Maibach\, FSV Maibach
DESCRIPTION:FSV - Neujahrslauf\nKategorie: Maibach\, FSV Maibach\nICS-Link:
  https://maibach-online.de/index.php?option=com_jem&view=event&id=446:fsv-
 neujahrslauf\n
DTSTART;VALUE=DATE:20180107
DTEND;VALUE=DATE:20180108
LOCATION:Alte Schule
SUMMARY:FSV - Neujahrslauf
URL:https://maibach-online.de/index.php?option=com_jem&view=event&id=446:fs
 v-neujahrslauf
END:VEVENT
END:VCALENDAR