BEGIN:VCALENDAR
VERSION:2.0
PRODID:-//81.169.145.79//NONSGML kigkonsult.se iCalcreator 2.20//
CALSCALE:GREGORIAN
METHOD:PUBLISH
X-WR-TIMEZONE:Europe/Berlin
BEGIN:VEVENT
UID:event704@Maibach Online
DTSTAMP:20260422T131720Z
CATEGORIES:Maibach\, FSV Maibach
DESCRIPTION:33. Pizzafest\nKategorie: Maibach\, FSV Maibach\nICS-Link: http
 s://maibach-online.de/index.php?option=com_jem&view=event&id=704:33-pizzaf
 est\n
DTSTART;TZID=Europe/Berlin:20230617T180000
DTEND;TZID=Europe/Berlin:20230617T180000
LOCATION:Backhaus
SUMMARY:33. Pizzafest
URL:https://maibach-online.de/index.php?option=com_jem&view=event&id=704:33
 -pizzafest
END:VEVENT
END:VCALENDAR