BEGIN:VCALENDAR
VERSION:2.0
PRODID:-//81.169.145.79//NONSGML kigkonsult.se iCalcreator 2.20//
CALSCALE:GREGORIAN
METHOD:PUBLISH
X-WR-TIMEZONE:Europe/Berlin
BEGIN:VEVENT
UID:event649@Maibach Online
DTSTAMP:20260424T190448Z
CATEGORIES:Maibach
DESCRIPTION:Weihnachtsgottesdienst\nKategorie: Maibach\nICS-Link: https://m
 aibach-online.de/index.php?option=com_jem&view=event&id=649:ev-gottesdiens
 t\n
DTSTART;TZID=Europe/Berlin:20191225T104500
DTEND;TZID=Europe/Berlin:20191225T104500
LOCATION:Kirche
SUMMARY:Weihnachtsgottesdienst
URL:https://maibach-online.de/index.php?option=com_jem&view=event&id=649:ev
 -gottesdienst
END:VEVENT
END:VCALENDAR