BEGIN:VCALENDAR
VERSION:2.0
PRODID:-//81.169.145.79//NONSGML kigkonsult.se iCalcreator 2.20//
CALSCALE:GREGORIAN
METHOD:PUBLISH
X-WR-TIMEZONE:Europe/Berlin
BEGIN:VEVENT
UID:event566@Maibach Online
DTSTAMP:20260421T202254Z
CATEGORIES:Einsatzabteilung
DESCRIPTION:FF - Atemschutzstrecke / 2 Plätze (Frank / Seb)\nKategorie: Ein
 satzabteilung\nICS-Link: https://maibach-online.de/index.php?option=com_je
 m&view=event&id=566:ff-ausbildung\n
DTSTART;TZID=Europe/Berlin:20191203T180000
DTEND;TZID=Europe/Berlin:20191203T180000
LOCATION:Feuerwehr Gerätehaus
SUMMARY:FF - Atemschutzstrecke / 2 Plätze (Frank / Seb)
URL:https://maibach-online.de/index.php?option=com_jem&view=event&id=566:ff
 -ausbildung
END:VEVENT
END:VCALENDAR